BEGIN:VCALENDAR
PRODID:-//Idescat.cat//NONSGML IdesCal 1.0//EN
VERSION:2.0
CALSCALE:GREGORIAN
METHOD:PUBLISH
BEGIN:VEVENT
DTSTART:20181019T120000
DTEND:20181019T140000
TRANSP:OPAQUE
SEQUENCE:0
UID:f-357-1@idescat.cat
DTSTAMP:20260424T034242Z
SUMMARY:Visual: gràfics per a les estadístiques de la BD Multitemàtica. 
CLASS:PUBLIC
LOCATION:Via Laietana 58\, Barcelona (sala de microinformàtica de l'Idescat)
CATEGORIES:Cursos i seminaris
STATUS:CONFIRMED
LAST-MODIFIED:20260424T034242Z
URL;VALUE=URI:https://www.idescat.cat/formacio/?id=I357/2018
END:VEVENT
END:VCALENDAR

