BEGIN:VCALENDAR
PRODID:-//Idescat.cat//NONSGML IdesCal 1.0//EN
VERSION:2.0
CALSCALE:GREGORIAN
METHOD:PUBLISH
BEGIN:VEVENT
DTSTART:20181123T120000
DTEND:20181123T131500
TRANSP:OPAQUE
SEQUENCE:0
UID:f-361-1@idescat.cat
DTSTAMP:20260424T055611Z
SUMMARY:Taller de xifratge d'arxius. 
CLASS:PUBLIC
LOCATION:Via Laietana 58\, Barcelona (sala de microinformàtica de l'Idescat)
CATEGORIES:Cursos i seminaris
STATUS:CONFIRMED
LAST-MODIFIED:20260424T055611Z
URL;VALUE=URI:https://www.idescat.cat/formacio/?id=I361/2018
END:VEVENT
END:VCALENDAR

