BEGIN:VCALENDAR
PRODID:-//Idescat.cat//NONSGML IdesCal 1.0//EN
VERSION:2.0
CALSCALE:GREGORIAN
METHOD:PUBLISH
BEGIN:VEVENT
DTSTART:20190125T113000
DTEND:20190125T130000
TRANSP:OPAQUE
SEQUENCE:0
UID:f-362-1@idescat.cat
DTSTAMP:20260424T001250Z
SUMMARY:Taller d'iniciació a la programació SQL per consultar bases de dades relacionals. 
CLASS:PUBLIC
LOCATION:Via Laietana 58\, Barcelona (sala de microinformàtica de l'Idescat)
CATEGORIES:Cursos i seminaris
STATUS:CONFIRMED
LAST-MODIFIED:20260424T001250Z
URL;VALUE=URI:https://www.idescat.cat/formacio/?id=I362/2019
END:VEVENT
END:VCALENDAR

