BEGIN:VCALENDAR
PRODID:-//Idescat.cat//NONSGML IdesCal 1.0//EN
VERSION:2.0
CALSCALE:GREGORIAN
METHOD:PUBLISH
BEGIN:VEVENT
DTSTART:20190517T120000
DTEND:20190517T133000
TRANSP:OPAQUE
SEQUENCE:0
UID:f-370-1@idescat.cat
DTSTAMP:20260424T001250Z
SUMMARY:Taller sobre l'aplicació de càrrega de dades a la Base de dades multitemàtica (BDMT). 
CLASS:PUBLIC
LOCATION:Via Laietana 58\, Barcelona (sala de microinformàtica de l'Idescat)
CATEGORIES:Cursos i seminaris
STATUS:CONFIRMED
LAST-MODIFIED:20260424T001250Z
URL;VALUE=URI:https://www.idescat.cat/formacio/?id=I370/2019
END:VEVENT
END:VCALENDAR

