BEGIN:VCALENDAR
PRODID:-//Idescat.cat//NONSGML IdesCal 1.0//EN
VERSION:2.0
CALSCALE:GREGORIAN
METHOD:PUBLISH
BEGIN:VEVENT
DTSTART:20190130T100000
DTEND:20190130T143000
TRANSP:OPAQUE
SEQUENCE:0
UID:f-373-1@idescat.cat
DTSTAMP:20260424T001305Z
SUMMARY:Curs de tractament de GDB amb POSTGRESQUL/POSTGIS i el model SFSQL i explotació amb clients SIG. 
CLASS:PUBLIC
LOCATION:Via Laietana 58\, Barcelona (sala de microinformàtica de l'Idescat)
CATEGORIES:Cursos i seminaris
STATUS:CONFIRMED
LAST-MODIFIED:20260424T001305Z
URL;VALUE=URI:https://www.idescat.cat/formacio/?id=I373/2019
END:VEVENT
BEGIN:VEVENT
DTSTART:20190206T100000
DTEND:20190206T143000
TRANSP:OPAQUE
SEQUENCE:0
UID:f-373-2@idescat.cat
DTSTAMP:20260424T001305Z
SUMMARY:Curs de tractament de GDB amb POSTGRESQUL/POSTGIS i el model SFSQL i explotació amb clients SIG. 
CLASS:PUBLIC
LOCATION:Via Laietana 58\, Barcelona (sala de microinformàtica de l'Idescat)
CATEGORIES:Cursos i seminaris
STATUS:CONFIRMED
LAST-MODIFIED:20260424T001305Z
URL;VALUE=URI:https://www.idescat.cat/formacio/?id=I373/2019
END:VEVENT
BEGIN:VEVENT
DTSTART:20190213T100000
DTEND:20190213T143000
TRANSP:OPAQUE
SEQUENCE:0
UID:f-373-3@idescat.cat
DTSTAMP:20260424T001305Z
SUMMARY:Curs de tractament de GDB amb POSTGRESQUL/POSTGIS i el model SFSQL i explotació amb clients SIG. 
CLASS:PUBLIC
LOCATION:Via Laietana 58\, Barcelona (sala de microinformàtica de l'Idescat)
CATEGORIES:Cursos i seminaris
STATUS:CONFIRMED
LAST-MODIFIED:20260424T001305Z
URL;VALUE=URI:https://www.idescat.cat/formacio/?id=I373/2019
END:VEVENT
BEGIN:VEVENT
DTSTART:20190219T100000
DTEND:20190219T143000
TRANSP:OPAQUE
SEQUENCE:0
UID:f-373-4@idescat.cat
DTSTAMP:20260424T001305Z
SUMMARY:Curs de tractament de GDB amb POSTGRESQUL/POSTGIS i el model SFSQL i explotació amb clients SIG. 
CLASS:PUBLIC
LOCATION:Via Laietana 58\, Barcelona (sala de microinformàtica de l'Idescat)
CATEGORIES:Cursos i seminaris
STATUS:CONFIRMED
LAST-MODIFIED:20260424T001305Z
URL;VALUE=URI:https://www.idescat.cat/formacio/?id=I373/2019
END:VEVENT
BEGIN:VEVENT
DTSTART:20190226T100000
DTEND:20190226T143000
TRANSP:OPAQUE
SEQUENCE:0
UID:f-373-5@idescat.cat
DTSTAMP:20260424T001305Z
SUMMARY:Curs de tractament de GDB amb POSTGRESQUL/POSTGIS i el model SFSQL i explotació amb clients SIG. 
CLASS:PUBLIC
LOCATION:Via Laietana 58\, Barcelona (sala de microinformàtica de l'Idescat)
CATEGORIES:Cursos i seminaris
STATUS:CONFIRMED
LAST-MODIFIED:20260424T001305Z
URL;VALUE=URI:https://www.idescat.cat/formacio/?id=I373/2019
END:VEVENT
END:VCALENDAR

