BEGIN:VCALENDAR
PRODID:-//Idescat.cat//NONSGML IdesCal 1.0//EN
VERSION:2.0
CALSCALE:GREGORIAN
METHOD:PUBLISH
BEGIN:VEVENT
DTSTART:20190514T090000
DTEND:20190514T130000
TRANSP:OPAQUE
SEQUENCE:0
UID:f-377-1@idescat.cat
DTSTAMP:20260424T001306Z
SUMMARY:Taller de codificació amb classificacions estadístiques. 
CLASS:PUBLIC
LOCATION:Via Laietana 58\, Barcelona (sala de microinformàtica de l'Idescat)
CATEGORIES:Cursos i seminaris
STATUS:CONFIRMED
LAST-MODIFIED:20260424T001306Z
URL;VALUE=URI:https://www.idescat.cat/formacio/?id=I377/2019
END:VEVENT
BEGIN:VEVENT
DTSTART:20190521T090000
DTEND:20190521T130000
TRANSP:OPAQUE
SEQUENCE:0
UID:f-377-2@idescat.cat
DTSTAMP:20260424T001306Z
SUMMARY:Taller de codificació amb classificacions estadístiques. 
CLASS:PUBLIC
LOCATION:Via Laietana 58\, Barcelona (sala de microinformàtica de l'Idescat)
CATEGORIES:Cursos i seminaris
STATUS:CONFIRMED
LAST-MODIFIED:20260424T001306Z
URL;VALUE=URI:https://www.idescat.cat/formacio/?id=I377/2019
END:VEVENT
END:VCALENDAR

