BEGIN:VCALENDAR
PRODID:-//Idescat.cat//NONSGML IdesCal 1.0//EN
VERSION:2.0
CALSCALE:GREGORIAN
METHOD:PUBLISH
BEGIN:VEVENT
DTSTART:20191129T123000
DTEND:20191129T140000
TRANSP:OPAQUE
SEQUENCE:0
UID:f-384-1@idescat.cat
DTSTAMP:20260424T001250Z
SUMMARY:Taller sobre les novetats implementades a Visual i la seva aplicació a la BDMT. 
CLASS:PUBLIC
LOCATION:Via Laietana 58\, Barcelona (sala de microinformàtica de l'Idescat)
CATEGORIES:Cursos i seminaris
STATUS:CONFIRMED
LAST-MODIFIED:20260424T001250Z
URL;VALUE=URI:https://www.idescat.cat/formacio/?id=I384/2019
END:VEVENT
END:VCALENDAR

