BEGIN:VCALENDAR
PRODID:-//Idescat.cat//NONSGML IdesCal 1.0//EN
VERSION:2.0
CALSCALE:GREGORIAN
METHOD:PUBLISH
BEGIN:VEVENT
DTSTART:20211105T120000
DTEND:20211105T130000
TRANSP:OPAQUE
SEQUENCE:0
UID:f-423-1@idescat.cat
DTSTAMP:20260422T041749Z
SUMMARY:Sessió sobre metadades estructurals del sistema integrat de metadades Qualitas: catàleg de variables. 
CLASS:PUBLIC
LOCATION:en línia per Teams
CATEGORIES:Cursos i seminaris
STATUS:CONFIRMED
LAST-MODIFIED:20260422T041749Z
URL;VALUE=URI:https://www.idescat.cat/formacio/?id=I423/2021
END:VEVENT
END:VCALENDAR

