BEGIN:VCALENDAR
PRODID:-//Idescat.cat//NONSGML IdesCal 1.0//EN
VERSION:2.0
CALSCALE:GREGORIAN
METHOD:PUBLISH
BEGIN:VEVENT
DTSTART:20220128T100000
DTEND:20220128T140000
TRANSP:OPAQUE
SEQUENCE:0
UID:f-427-1@idescat.cat
DTSTAMP:20260424T170541Z
SUMMARY:Taller intern sobre el catàleg de variables (metadades estructurals). 
CLASS:PUBLIC
LOCATION:en línia via Teams
CATEGORIES:Cursos i seminaris
STATUS:CONFIRMED
LAST-MODIFIED:20260424T170541Z
URL;VALUE=URI:https://www.idescat.cat/formacio/?id=I427/2022
END:VEVENT
END:VCALENDAR

