BEGIN:VCALENDAR
PRODID:-//Idescat.cat//NONSGML IdesCal 1.0//EN
VERSION:2.0
CALSCALE:GREGORIAN
METHOD:PUBLISH
BEGIN:VEVENT
DTSTART:20220204T120000
DTEND:20220204T130000
TRANSP:OPAQUE
SEQUENCE:0
UID:f-428-1@idescat.cat
DTSTAMP:20260424T134527Z
SUMMARY:Sessió tècnica sobre el PIV i la seva aplicació a l'Idescat. 
CLASS:PUBLIC
LOCATION:en línia via Teams
CATEGORIES:Cursos i seminaris
STATUS:CONFIRMED
LAST-MODIFIED:20260424T134527Z
URL;VALUE=URI:https://www.idescat.cat/formacio/?id=I428/2022
END:VEVENT
END:VCALENDAR

