BEGIN:VCALENDAR
PRODID:-//Idescat.cat//NONSGML IdesCal 1.0//EN
VERSION:2.0
CALSCALE:GREGORIAN
METHOD:PUBLISH
BEGIN:VEVENT
DTSTART:20220310T110000
DTEND:20220310T140000
TRANSP:OPAQUE
SEQUENCE:0
UID:f-438-1@idescat.cat
DTSTAMP:20260424T170542Z
SUMMARY:Curs de sèries temporals avançat. 
CLASS:PUBLIC
LOCATION:en línia
CATEGORIES:Cursos i seminaris
STATUS:CONFIRMED
LAST-MODIFIED:20260424T170542Z
URL;VALUE=URI:https://www.idescat.cat/formacio/?id=I438/2022
END:VEVENT
BEGIN:VEVENT
DTSTART:20220321T110000
DTEND:20220321T140000
TRANSP:OPAQUE
SEQUENCE:0
UID:f-438-2@idescat.cat
DTSTAMP:20260424T170542Z
SUMMARY:Curs de sèries temporals avançat. 
CLASS:PUBLIC
LOCATION:en línia
CATEGORIES:Cursos i seminaris
STATUS:CONFIRMED
LAST-MODIFIED:20260424T170542Z
URL;VALUE=URI:https://www.idescat.cat/formacio/?id=I438/2022
END:VEVENT
BEGIN:VEVENT
DTSTART:20220331T110000
DTEND:20220331T140000
TRANSP:OPAQUE
SEQUENCE:0
UID:f-438-3@idescat.cat
DTSTAMP:20260424T170542Z
SUMMARY:Curs de sèries temporals avançat. 
CLASS:PUBLIC
LOCATION:en línia
CATEGORIES:Cursos i seminaris
STATUS:CONFIRMED
LAST-MODIFIED:20260424T170542Z
URL;VALUE=URI:https://www.idescat.cat/formacio/?id=I438/2022
END:VEVENT
BEGIN:VEVENT
DTSTART:20220405T110000
DTEND:20220405T140000
TRANSP:OPAQUE
SEQUENCE:0
UID:f-438-4@idescat.cat
DTSTAMP:20260424T170542Z
SUMMARY:Curs de sèries temporals avançat. 
CLASS:PUBLIC
LOCATION:en línia
CATEGORIES:Cursos i seminaris
STATUS:CONFIRMED
LAST-MODIFIED:20260424T170542Z
URL;VALUE=URI:https://www.idescat.cat/formacio/?id=I438/2022
END:VEVENT
BEGIN:VEVENT
DTSTART:20220407T110000
DTEND:20220407T140000
TRANSP:OPAQUE
SEQUENCE:0
UID:f-438-5@idescat.cat
DTSTAMP:20260424T170542Z
SUMMARY:Curs de sèries temporals avançat. 
CLASS:PUBLIC
LOCATION:en línia
CATEGORIES:Cursos i seminaris
STATUS:CONFIRMED
LAST-MODIFIED:20260424T170542Z
URL;VALUE=URI:https://www.idescat.cat/formacio/?id=I438/2022
END:VEVENT
END:VCALENDAR

