BEGIN:VCALENDAR
PRODID:-//Idescat.cat//NONSGML IdesCal 1.0//EN
VERSION:2.0
CALSCALE:GREGORIAN
METHOD:PUBLISH
BEGIN:VEVENT
DTSTART:20180316T123000
DTEND:20180316T140000
TRANSP:OPAQUE
SEQUENCE:0
UID:f-340-1@idescat.cat
DTSTAMP:20260424T034241Z
SUMMARY:El servei dades obertes de la Generalitat de Catalunya. 
CLASS:PUBLIC
LOCATION:Via Laietana 58\, Barcelona (sala d'actes de l'Idescat)
CATEGORIES:Cursos i seminaris
STATUS:CONFIRMED
LAST-MODIFIED:20260424T034241Z
URL;VALUE=URI:https://www.idescat.cat/formacio/?id=O340/2018
END:VEVENT
END:VCALENDAR

