BEGIN:VCALENDAR
PRODID:-//Idescat.cat//NONSGML IdesCal 1.0//EN
VERSION:2.0
CALSCALE:GREGORIAN
METHOD:PUBLISH
BEGIN:VEVENT
DTSTART:20181130T123000
DTEND:20181130T140000
TRANSP:OPAQUE
SEQUENCE:0
UID:f-354-1@idescat.cat
DTSTAMP:20260424T055610Z
SUMMARY:Competències lingüístiques i transmissió intergeneracional de la llengua. 
CLASS:PUBLIC
LOCATION:Via Laietana 58\, Barcelona (sala d'actes de l'Idescat)
CATEGORIES:Cursos i seminaris
STATUS:CONFIRMED
LAST-MODIFIED:20260424T055610Z
URL;VALUE=URI:https://www.idescat.cat/formacio/?id=O354/2018
END:VEVENT
END:VCALENDAR

