BEGIN:VCALENDAR
PRODID:-//Idescat.cat//NONSGML IdesCal 1.0//EN
VERSION:2.0
CALSCALE:GREGORIAN
METHOD:PUBLISH
BEGIN:VEVENT
DTSTART:20190215T123000
DTEND:20190215T140000
TRANSP:OPAQUE
SEQUENCE:0
UID:f-363-1@idescat.cat
DTSTAMP:20260424T001305Z
SUMMARY:Sessió sobre l'Enquesta a la joventut de Catalunya 2017 (EJC 2017). 
CLASS:PUBLIC
LOCATION:Via Laietana 58\, Barcelona (sala d'actes de l'Idescat)
CATEGORIES:Cursos i seminaris
STATUS:CONFIRMED
LAST-MODIFIED:20260424T001305Z
URL;VALUE=URI:https://www.idescat.cat/formacio/?id=O363/2019
END:VEVENT
END:VCALENDAR

