BEGIN:VCALENDAR
PRODID:-//Idescat.cat//NONSGML IdesCal 1.0//EN
VERSION:2.0
CALSCALE:GREGORIAN
METHOD:PUBLISH
BEGIN:VEVENT
DTSTART:20191108T123000
DTEND:20191108T140000
TRANSP:OPAQUE
SEQUENCE:0
UID:f-383-1@idescat.cat
DTSTAMP:20260424T001306Z
SUMMARY:Sessió sobre l'anàlisi de l'ús del temps amb perspectiva de gènere a Catalunya (2002-2003\, 2010-2011). 
CLASS:PUBLIC
LOCATION:Via Laietana 58\, Barcelona (sala d'actes de l'Idescat)
CATEGORIES:Cursos i seminaris
STATUS:CONFIRMED
LAST-MODIFIED:20260424T001306Z
URL;VALUE=URI:https://www.idescat.cat/formacio/?id=O383/2019
END:VEVENT
END:VCALENDAR

