BEGIN:VCALENDAR
PRODID:-//Idescat.cat//NONSGML IdesCal 1.0//EN
VERSION:2.0
CALSCALE:GREGORIAN
METHOD:PUBLISH
BEGIN:VEVENT
DTSTART:20210212T120000
DTEND:20210212T130000
TRANSP:OPAQUE
SEQUENCE:0
UID:f-408-1@idescat.cat
DTSTAMP:20260422T041748Z
SUMMARY:Seminari Eurostat: Dades d'Eurostat\, com cercar i extreure dades fàcilment. 
CLASS:PUBLIC
LOCATION:en línia via Webex
CATEGORIES:Cursos i seminaris
STATUS:CONFIRMED
LAST-MODIFIED:20260422T041748Z
URL;VALUE=URI:https://www.idescat.cat/formacio/?id=O408/2021
END:VEVENT
END:VCALENDAR

