BEGIN:VCALENDAR
PRODID:-//Idescat.cat//NONSGML IdesCal 1.0//EN
VERSION:2.0
CALSCALE:GREGORIAN
METHOD:PUBLISH
BEGIN:VEVENT
DTSTART:20210514T120000
DTEND:20210514T130000
TRANSP:OPAQUE
SEQUENCE:0
UID:f-409-1@idescat.cat
DTSTAMP:20260422T041749Z
SUMMARY:Sessió sobre l'Enquesta de mobilitat quotidiana al Camp de Tarragona. 
CLASS:PUBLIC
LOCATION:en línia via Teams
CATEGORIES:Cursos i seminaris
STATUS:CONFIRMED
LAST-MODIFIED:20260422T041749Z
URL;VALUE=URI:https://www.idescat.cat/formacio/?id=O409/2021
END:VEVENT
END:VCALENDAR

