BEGIN:VCALENDAR
PRODID:-//Idescat.cat//NONSGML IdesCal 1.0//EN
VERSION:2.0
CALSCALE:GREGORIAN
METHOD:PUBLISH
BEGIN:VEVENT
DTSTART:20210409T120000
DTEND:20210409T130000
TRANSP:OPAQUE
SEQUENCE:0
UID:f-410-1@idescat.cat
DTSTAMP:20260422T041748Z
SUMMARY:Sessió: explorant noves fonts per a l'estudi de la mobilitat per motius d'estudi de la població. L'explotació  dels registres administratius per l'Idescat. 
CLASS:PUBLIC
LOCATION:en línia via Teams
CATEGORIES:Cursos i seminaris
STATUS:CONFIRMED
LAST-MODIFIED:20260422T041748Z
URL;VALUE=URI:https://www.idescat.cat/formacio/?id=O410/2021
END:VEVENT
END:VCALENDAR

