BEGIN:VCALENDAR
PRODID:-//Idescat.cat//NONSGML IdesCal 1.0//EN
VERSION:2.0
CALSCALE:GREGORIAN
METHOD:PUBLISH
BEGIN:VEVENT
DTSTART:20210617T120000
DTEND:20210617T130000
TRANSP:OPAQUE
SEQUENCE:0
UID:f-413-1@idescat.cat
DTSTAMP:20260422T041749Z
SUMMARY:Sessió sobre estratègies d'augment de la cooperació en una enquesta multicanal. El cas de l'Enquesta d'usos lingüístics de la població de Catalunya 2013. 
CLASS:PUBLIC
LOCATION:en línia via Zoom
CATEGORIES:Cursos i seminaris
STATUS:CONFIRMED
LAST-MODIFIED:20260422T041749Z
URL;VALUE=URI:https://www.idescat.cat/formacio/?id=O413/2021
END:VEVENT
END:VCALENDAR

