BEGIN:VCALENDAR
PRODID:-//Idescat.cat//NONSGML IdesCal 1.0//EN
VERSION:2.0
CALSCALE:GREGORIAN
METHOD:PUBLISH
BEGIN:VEVENT
DTSTART:20210224T110000
DTEND:20210224T140000
TRANSP:OPAQUE
SEQUENCE:0
UID:f-414-1@idescat.cat
DTSTAMP:20260422T041748Z
SUMMARY:Curs de sèries temporals. 
CLASS:PUBLIC
LOCATION:en línia via Teams
CATEGORIES:Cursos i seminaris
STATUS:CONFIRMED
LAST-MODIFIED:20260422T041748Z
URL;VALUE=URI:https://www.idescat.cat/formacio/?id=O414/2021
END:VEVENT
BEGIN:VEVENT
DTSTART:20210303T110000
DTEND:20210303T140000
TRANSP:OPAQUE
SEQUENCE:0
UID:f-414-2@idescat.cat
DTSTAMP:20260422T041748Z
SUMMARY:Curs de sèries temporals. 
CLASS:PUBLIC
LOCATION:en línia via Teams
CATEGORIES:Cursos i seminaris
STATUS:CONFIRMED
LAST-MODIFIED:20260422T041748Z
URL;VALUE=URI:https://www.idescat.cat/formacio/?id=O414/2021
END:VEVENT
BEGIN:VEVENT
DTSTART:20210310T110000
DTEND:20210310T140000
TRANSP:OPAQUE
SEQUENCE:0
UID:f-414-3@idescat.cat
DTSTAMP:20260422T041748Z
SUMMARY:Curs de sèries temporals. 
CLASS:PUBLIC
LOCATION:en línia via Teams
CATEGORIES:Cursos i seminaris
STATUS:CONFIRMED
LAST-MODIFIED:20260422T041748Z
URL;VALUE=URI:https://www.idescat.cat/formacio/?id=O414/2021
END:VEVENT
BEGIN:VEVENT
DTSTART:20210317T110000
DTEND:20210317T140000
TRANSP:OPAQUE
SEQUENCE:0
UID:f-414-4@idescat.cat
DTSTAMP:20260422T041748Z
SUMMARY:Curs de sèries temporals. 
CLASS:PUBLIC
LOCATION:en línia via Teams
CATEGORIES:Cursos i seminaris
STATUS:CONFIRMED
LAST-MODIFIED:20260422T041748Z
URL;VALUE=URI:https://www.idescat.cat/formacio/?id=O414/2021
END:VEVENT
BEGIN:VEVENT
DTSTART:20210324T110000
DTEND:20210324T140000
TRANSP:OPAQUE
SEQUENCE:0
UID:f-414-5@idescat.cat
DTSTAMP:20260422T041748Z
SUMMARY:Curs de sèries temporals. 
CLASS:PUBLIC
LOCATION:en línia via Teams
CATEGORIES:Cursos i seminaris
STATUS:CONFIRMED
LAST-MODIFIED:20260422T041748Z
URL;VALUE=URI:https://www.idescat.cat/formacio/?id=O414/2021
END:VEVENT
END:VCALENDAR

