BEGIN:VCALENDAR
PRODID:-//Idescat.cat//NONSGML IdesCal 1.0//EN
VERSION:2.0
CALSCALE:GREGORIAN
METHOD:PUBLISH
BEGIN:VEVENT
DTSTART:20210928T120000
DTEND:20210928T133000
TRANSP:OPAQUE
SEQUENCE:0
UID:f-418-1@idescat.cat
DTSTAMP:20260422T041749Z
SUMMARY:Seminari sobre els serveis d'Eurostat: eines i productes disponibles. 
CLASS:PUBLIC
LOCATION:en línia per Webex
CATEGORIES:Cursos i seminaris
STATUS:CONFIRMED
LAST-MODIFIED:20260422T041749Z
URL;VALUE=URI:https://www.idescat.cat/formacio/?id=O418/2021
END:VEVENT
END:VCALENDAR

