BEGIN:VCALENDAR
PRODID:-//Idescat.cat//NONSGML IdesCal 1.0//EN
VERSION:2.0
CALSCALE:GREGORIAN
METHOD:PUBLISH
BEGIN:VEVENT
DTSTART:20211029T120000
DTEND:20211029T130000
TRANSP:OPAQUE
SEQUENCE:0
UID:f-419-1@idescat.cat
DTSTAMP:20260422T041748Z
SUMMARY:Sessió sobre l'enquesta de mobilitat (EMQ) 2019 de les Terres de l'Ebre. 
CLASS:PUBLIC
LOCATION:en línia per Teams
CATEGORIES:Cursos i seminaris
STATUS:CONFIRMED
LAST-MODIFIED:20260422T041748Z
URL;VALUE=URI:https://www.idescat.cat/formacio/?id=O419/2021
END:VEVENT
END:VCALENDAR

