BEGIN:VCALENDAR
PRODID:-//Idescat.cat//NONSGML IdesCal 1.0//EN
VERSION:2.0
CALSCALE:GREGORIAN
METHOD:PUBLISH
BEGIN:VEVENT
DTSTART:20211126T120000
DTEND:20211126T130000
TRANSP:OPAQUE
SEQUENCE:0
UID:f-422-1@idescat.cat
DTSTAMP:20260422T041748Z
SUMMARY:Sessió sobre localització geogràfica dels centres d'aprenentatge de llengua i coneixement de català: nous resultats sobre els efectes de la creació del CPNL. 
CLASS:PUBLIC
LOCATION:en línia per Teams
CATEGORIES:Cursos i seminaris
STATUS:CONFIRMED
LAST-MODIFIED:20260422T041748Z
URL;VALUE=URI:https://www.idescat.cat/formacio/?id=O422/2021
END:VEVENT
END:VCALENDAR

