BEGIN:VCALENDAR
PRODID:-//Idescat.cat//NONSGML IdesCal 1.0//EN
VERSION:2.0
CALSCALE:GREGORIAN
METHOD:PUBLISH
BEGIN:VEVENT
DTSTART:20211104T110000
DTEND:20211104T140000
TRANSP:OPAQUE
SEQUENCE:0
UID:f-425-1@idescat.cat
DTSTAMP:20260422T041749Z
SUMMARY:Curs de nivell intermedi d'R. 
CLASS:PUBLIC
LOCATION:en línia per Zoom
CATEGORIES:Cursos i seminaris
STATUS:CONFIRMED
LAST-MODIFIED:20260422T041749Z
URL;VALUE=URI:https://www.idescat.cat/formacio/?id=O425/2021
END:VEVENT
BEGIN:VEVENT
DTSTART:20211111T110000
DTEND:20211111T140000
TRANSP:OPAQUE
SEQUENCE:0
UID:f-425-2@idescat.cat
DTSTAMP:20260422T041749Z
SUMMARY:Curs de nivell intermedi d'R. 
CLASS:PUBLIC
LOCATION:en línia per Zoom
CATEGORIES:Cursos i seminaris
STATUS:CONFIRMED
LAST-MODIFIED:20260422T041749Z
URL;VALUE=URI:https://www.idescat.cat/formacio/?id=O425/2021
END:VEVENT
BEGIN:VEVENT
DTSTART:20211123T110000
DTEND:20211123T140000
TRANSP:OPAQUE
SEQUENCE:0
UID:f-425-3@idescat.cat
DTSTAMP:20260422T041749Z
SUMMARY:Curs de nivell intermedi d'R. 
CLASS:PUBLIC
LOCATION:en línia per Zoom
CATEGORIES:Cursos i seminaris
STATUS:CONFIRMED
LAST-MODIFIED:20260422T041749Z
URL;VALUE=URI:https://www.idescat.cat/formacio/?id=O425/2021
END:VEVENT
BEGIN:VEVENT
DTSTART:20211125T110000
DTEND:20211125T140000
TRANSP:OPAQUE
SEQUENCE:0
UID:f-425-4@idescat.cat
DTSTAMP:20260422T041749Z
SUMMARY:Curs de nivell intermedi d'R. 
CLASS:PUBLIC
LOCATION:en línia per Zoom
CATEGORIES:Cursos i seminaris
STATUS:CONFIRMED
LAST-MODIFIED:20260422T041749Z
URL;VALUE=URI:https://www.idescat.cat/formacio/?id=O425/2021
END:VEVENT
BEGIN:VEVENT
DTSTART:20211202T110000
DTEND:20211202T140000
TRANSP:OPAQUE
SEQUENCE:0
UID:f-425-5@idescat.cat
DTSTAMP:20260422T041749Z
SUMMARY:Curs de nivell intermedi d'R. 
CLASS:PUBLIC
LOCATION:en línia per Zoom
CATEGORIES:Cursos i seminaris
STATUS:CONFIRMED
LAST-MODIFIED:20260422T041749Z
URL;VALUE=URI:https://www.idescat.cat/formacio/?id=O425/2021
END:VEVENT
END:VCALENDAR

