BEGIN:VCALENDAR
PRODID:-//Idescat.cat//NONSGML IdesCal 1.0//EN
VERSION:2.0
CALSCALE:GREGORIAN
METHOD:PUBLISH
BEGIN:VEVENT
DTSTART:20220304T120000
DTEND:20220304T130000
TRANSP:OPAQUE
SEQUENCE:0
UID:f-430-1@idescat.cat
DTSTAMP:20260424T134527Z
SUMMARY:Sessió sobre consulta estructurada de la situació i les perspectives de l'estadística oficial catalana. 
CLASS:PUBLIC
LOCATION:en línia via Teams
CATEGORIES:Cursos i seminaris
STATUS:CONFIRMED
LAST-MODIFIED:20260424T134527Z
URL;VALUE=URI:https://www.idescat.cat/formacio/?id=O430/2022
END:VEVENT
END:VCALENDAR

