BEGIN:VCALENDAR
PRODID:-//Idescat.cat//NONSGML IdesCal 1.0//EN
VERSION:2.0
CALSCALE:GREGORIAN
METHOD:PUBLISH
BEGIN:VEVENT
DTSTART:20220318T120000
DTEND:20220318T130000
TRANSP:OPAQUE
SEQUENCE:0
UID:f-431-1@idescat.cat
DTSTAMP:20260424T134528Z
SUMMARY:Sessió sobre el  Programa d'analítica de dades per a la recerca i la innovació en salut (PADRIS). 
CLASS:PUBLIC
LOCATION:en línia via Teams
CATEGORIES:Cursos i seminaris
STATUS:CONFIRMED
LAST-MODIFIED:20260424T134528Z
URL;VALUE=URI:https://www.idescat.cat/formacio/?id=O431/2022
END:VEVENT
END:VCALENDAR

