BEGIN:VCALENDAR
PRODID:-//Idescat.cat//NONSGML IdesCal 1.0//EN
VERSION:2.0
CALSCALE:GREGORIAN
METHOD:PUBLISH
BEGIN:VEVENT
DTSTART:20220527T120000
DTEND:20220527T130000
TRANSP:OPAQUE
SEQUENCE:0
UID:f-435-1@idescat.cat
DTSTAMP:20260424T170541Z
SUMMARY:Sessió sobre l'Enquesta de seguretat pública a Catalunya (ESPC). 
CLASS:PUBLIC
LOCATION:en línia via Teams
CATEGORIES:Cursos i seminaris
STATUS:CONFIRMED
LAST-MODIFIED:20260424T170541Z
URL;VALUE=URI:https://www.idescat.cat/formacio/?id=O435/2022
END:VEVENT
END:VCALENDAR

