BEGIN:VCALENDAR
PRODID:-//Idescat.cat//NONSGML IdesCal 1.0//EN
VERSION:2.0
CALSCALE:GREGORIAN
METHOD:PUBLISH
BEGIN:VEVENT
DTSTART:20220217T120000
DTEND:20220217T140000
TRANSP:OPAQUE
SEQUENCE:0
UID:f-437-1@idescat.cat
DTSTAMP:20260424T170541Z
SUMMARY:Curs sobre tècniques d'anàlisi multivariant I. 
CLASS:PUBLIC
LOCATION:en línia
CATEGORIES:Cursos i seminaris
STATUS:CONFIRMED
LAST-MODIFIED:20260424T170541Z
URL;VALUE=URI:https://www.idescat.cat/formacio/?id=O437/2022
END:VEVENT
BEGIN:VEVENT
DTSTART:20220223T120000
DTEND:20220223T140000
TRANSP:OPAQUE
SEQUENCE:0
UID:f-437-2@idescat.cat
DTSTAMP:20260424T170541Z
SUMMARY:Curs sobre tècniques d'anàlisi multivariant I. 
CLASS:PUBLIC
LOCATION:en línia
CATEGORIES:Cursos i seminaris
STATUS:CONFIRMED
LAST-MODIFIED:20260424T170541Z
URL;VALUE=URI:https://www.idescat.cat/formacio/?id=O437/2022
END:VEVENT
BEGIN:VEVENT
DTSTART:20220302T120000
DTEND:20220302T140000
TRANSP:OPAQUE
SEQUENCE:0
UID:f-437-3@idescat.cat
DTSTAMP:20260424T170541Z
SUMMARY:Curs sobre tècniques d'anàlisi multivariant I. 
CLASS:PUBLIC
LOCATION:en línia
CATEGORIES:Cursos i seminaris
STATUS:CONFIRMED
LAST-MODIFIED:20260424T170541Z
URL;VALUE=URI:https://www.idescat.cat/formacio/?id=O437/2022
END:VEVENT
BEGIN:VEVENT
DTSTART:20220303T120000
DTEND:20220303T140000
TRANSP:OPAQUE
SEQUENCE:0
UID:f-437-4@idescat.cat
DTSTAMP:20260424T170541Z
SUMMARY:Curs sobre tècniques d'anàlisi multivariant I. 
CLASS:PUBLIC
LOCATION:en línia
CATEGORIES:Cursos i seminaris
STATUS:CONFIRMED
LAST-MODIFIED:20260424T170541Z
URL;VALUE=URI:https://www.idescat.cat/formacio/?id=O437/2022
END:VEVENT
BEGIN:VEVENT
DTSTART:20220309T120000
DTEND:20220309T140000
TRANSP:OPAQUE
SEQUENCE:0
UID:f-437-5@idescat.cat
DTSTAMP:20260424T170541Z
SUMMARY:Curs sobre tècniques d'anàlisi multivariant I. 
CLASS:PUBLIC
LOCATION:en línia
CATEGORIES:Cursos i seminaris
STATUS:CONFIRMED
LAST-MODIFIED:20260424T170541Z
URL;VALUE=URI:https://www.idescat.cat/formacio/?id=O437/2022
END:VEVENT
BEGIN:VEVENT
DTSTART:20220314T120000
DTEND:20220314T140000
TRANSP:OPAQUE
SEQUENCE:0
UID:f-437-6@idescat.cat
DTSTAMP:20260424T170541Z
SUMMARY:Curs sobre tècniques d'anàlisi multivariant I. 
CLASS:PUBLIC
LOCATION:en línia
CATEGORIES:Cursos i seminaris
STATUS:CONFIRMED
LAST-MODIFIED:20260424T170541Z
URL;VALUE=URI:https://www.idescat.cat/formacio/?id=O437/2022
END:VEVENT
END:VCALENDAR

