BEGIN:VCALENDAR
PRODID:-//Idescat.cat//NONSGML IdesCal 1.0//EN
VERSION:2.0
CALSCALE:GREGORIAN
METHOD:PUBLISH
BEGIN:VEVENT
DTSTART:20221007T120000
DTEND:20221007T130000
TRANSP:OPAQUE
SEQUENCE:0
UID:f-440-1@idescat.cat
DTSTAMP:20260424T134528Z
SUMMARY:Sessió sobre delimitació de les àrees rurals de Catalunya. Indicadors del grau d'urbanització. 
CLASS:PUBLIC
LOCATION:en línia
CATEGORIES:Cursos i seminaris
STATUS:CONFIRMED
LAST-MODIFIED:20260424T134528Z
URL;VALUE=URI:https://www.idescat.cat/formacio/?id=O440/2022
END:VEVENT
END:VCALENDAR

