BEGIN:VCALENDAR
PRODID:-//Idescat.cat//NONSGML IdesCal 1.0//EN
VERSION:2.0
CALSCALE:GREGORIAN
METHOD:PUBLISH
BEGIN:VEVENT
DTSTART:20220927T110000
DTEND:20220927T140000
TRANSP:OPAQUE
SEQUENCE:0
UID:f-445-1@idescat.cat
DTSTAMP:20260424T170542Z
SUMMARY:Curs d'introducció a la ciència de dades. Oportunitats per a la producció estadística. 
CLASS:PUBLIC
LOCATION:en línia
CATEGORIES:Cursos i seminaris
STATUS:CONFIRMED
LAST-MODIFIED:20260424T170542Z
URL;VALUE=URI:https://www.idescat.cat/formacio/?id=O445/2022
END:VEVENT
BEGIN:VEVENT
DTSTART:20221004T110000
DTEND:20221004T140000
TRANSP:OPAQUE
SEQUENCE:0
UID:f-445-2@idescat.cat
DTSTAMP:20260424T170542Z
SUMMARY:Curs d'introducció a la ciència de dades. Oportunitats per a la producció estadística. 
CLASS:PUBLIC
LOCATION:en línia
CATEGORIES:Cursos i seminaris
STATUS:CONFIRMED
LAST-MODIFIED:20260424T170542Z
URL;VALUE=URI:https://www.idescat.cat/formacio/?id=O445/2022
END:VEVENT
BEGIN:VEVENT
DTSTART:20221011T110000
DTEND:20221011T140000
TRANSP:OPAQUE
SEQUENCE:0
UID:f-445-3@idescat.cat
DTSTAMP:20260424T170542Z
SUMMARY:Curs d'introducció a la ciència de dades. Oportunitats per a la producció estadística. 
CLASS:PUBLIC
LOCATION:en línia
CATEGORIES:Cursos i seminaris
STATUS:CONFIRMED
LAST-MODIFIED:20260424T170542Z
URL;VALUE=URI:https://www.idescat.cat/formacio/?id=O445/2022
END:VEVENT
BEGIN:VEVENT
DTSTART:20221027T110000
DTEND:20221027T140000
TRANSP:OPAQUE
SEQUENCE:0
UID:f-445-4@idescat.cat
DTSTAMP:20260424T170542Z
SUMMARY:Curs d'introducció a la ciència de dades. Oportunitats per a la producció estadística. 
CLASS:PUBLIC
LOCATION:en línia
CATEGORIES:Cursos i seminaris
STATUS:CONFIRMED
LAST-MODIFIED:20260424T170542Z
URL;VALUE=URI:https://www.idescat.cat/formacio/?id=O445/2022
END:VEVENT
END:VCALENDAR

