BEGIN:VCALENDAR
PRODID:-//Idescat.cat//NONSGML IdesCal 1.0//EN
VERSION:2.0
CALSCALE:GREGORIAN
METHOD:PUBLISH
BEGIN:VEVENT
DTSTART:20221014T093000
DTEND:20221014T133000
TRANSP:OPAQUE
SEQUENCE:0
UID:f-449-1@idescat.cat
DTSTAMP:20260424T170541Z
SUMMARY:XXII Dia de l'Estadística de Catalunya. 
CLASS:PUBLIC
LOCATION:Pati Manning\, C/Montalegre\, 7 de  Barcelona
CATEGORIES:Cursos i seminaris
STATUS:CONFIRMED
LAST-MODIFIED:20260424T170541Z
URL;VALUE=URI:https://www.idescat.cat/formacio/?id=O449/2022
END:VEVENT
END:VCALENDAR

