BEGIN:VCALENDAR
PRODID:-//Idescat.cat//NONSGML IdesCal 1.0//EN
VERSION:2.0
CALSCALE:GREGORIAN
METHOD:PUBLISH
BEGIN:VEVENT
DTSTART:20180301T113000
DTEND:20180301T143000
TRANSP:OPAQUE
SEQUENCE:0
UID:f-345-1@idescat.cat
DTSTAMP:20260424T034244Z
SUMMARY:Curs d'introducció a R. 
CLASS:PUBLIC
LOCATION:Via Laietana 58\, Barcelona (sala de microinformàtica de l'Idescat)
CATEGORIES:Cursos i seminaris
STATUS:CONFIRMED
LAST-MODIFIED:20260424T034244Z
URL;VALUE=URI:https://www.idescat.cat/formacio/?id=R345/2018
END:VEVENT
BEGIN:VEVENT
DTSTART:20180306T113000
DTEND:20180306T143000
TRANSP:OPAQUE
SEQUENCE:0
UID:f-345-2@idescat.cat
DTSTAMP:20260424T034244Z
SUMMARY:Curs d'introducció a R. 
CLASS:PUBLIC
LOCATION:Via Laietana 58\, Barcelona (sala de microinformàtica de l'Idescat)
CATEGORIES:Cursos i seminaris
STATUS:CONFIRMED
LAST-MODIFIED:20260424T034244Z
URL;VALUE=URI:https://www.idescat.cat/formacio/?id=R345/2018
END:VEVENT
BEGIN:VEVENT
DTSTART:20180308T113000
DTEND:20180308T143000
TRANSP:OPAQUE
SEQUENCE:0
UID:f-345-3@idescat.cat
DTSTAMP:20260424T034244Z
SUMMARY:Curs d'introducció a R. 
CLASS:PUBLIC
LOCATION:Via Laietana 58\, Barcelona (sala de microinformàtica de l'Idescat)
CATEGORIES:Cursos i seminaris
STATUS:CONFIRMED
LAST-MODIFIED:20260424T034244Z
URL;VALUE=URI:https://www.idescat.cat/formacio/?id=R345/2018
END:VEVENT
BEGIN:VEVENT
DTSTART:20180315T113000
DTEND:20180315T143000
TRANSP:OPAQUE
SEQUENCE:0
UID:f-345-4@idescat.cat
DTSTAMP:20260424T034244Z
SUMMARY:Curs d'introducció a R. 
CLASS:PUBLIC
LOCATION:Via Laietana 58\, Barcelona (sala de microinformàtica de l'Idescat)
CATEGORIES:Cursos i seminaris
STATUS:CONFIRMED
LAST-MODIFIED:20260424T034244Z
URL;VALUE=URI:https://www.idescat.cat/formacio/?id=R345/2018
END:VEVENT
BEGIN:VEVENT
DTSTART:20190319T100000
DTEND:20190319T140000
TRANSP:OPAQUE
SEQUENCE:0
UID:f-345-5@idescat.cat
DTSTAMP:20260424T034244Z
SUMMARY:Curs d'introducció a R. 
CLASS:PUBLIC
LOCATION:Via Laietana 58\, Barcelona (sala de microinformàtica de l'Idescat)
CATEGORIES:Cursos i seminaris
STATUS:CONFIRMED
LAST-MODIFIED:20260424T034244Z
URL;VALUE=URI:https://www.idescat.cat/formacio/?id=R345/2018
END:VEVENT
END:VCALENDAR

