BEGIN:VCALENDAR
PRODID:-//Idescat.cat//NONSGML IdesCal 1.0//EN
VERSION:2.0
CALSCALE:GREGORIAN
METHOD:PUBLISH
BEGIN:VEVENT
DTSTART:20180404T120000
DTEND:20180404T140000
TRANSP:OPAQUE
SEQUENCE:0
UID:f-346-1@idescat.cat
DTSTAMP:20260424T034243Z
SUMMARY:Seminari sobre les fonts estadístiques oficials a Catalunya. 
CLASS:PUBLIC
LOCATION:Via Laietana 58\, Barcelona (sala d'actes de l'Idescat)
CATEGORIES:Cursos i seminaris
STATUS:CONFIRMED
LAST-MODIFIED:20260424T034243Z
URL;VALUE=URI:https://www.idescat.cat/formacio/?id=R346/2018
END:VEVENT
BEGIN:VEVENT
DTSTART:20180411T120000
DTEND:20180411T140000
TRANSP:OPAQUE
SEQUENCE:0
UID:f-346-2@idescat.cat
DTSTAMP:20260424T034243Z
SUMMARY:Seminari sobre les fonts estadístiques oficials a Catalunya. 
CLASS:PUBLIC
LOCATION:Via Laietana 58\, Barcelona (sala d'actes de l'Idescat)
CATEGORIES:Cursos i seminaris
STATUS:CONFIRMED
LAST-MODIFIED:20260424T034243Z
URL;VALUE=URI:https://www.idescat.cat/formacio/?id=R346/2018
END:VEVENT
BEGIN:VEVENT
DTSTART:20180418T120000
DTEND:20180418T140000
TRANSP:OPAQUE
SEQUENCE:0
UID:f-346-3@idescat.cat
DTSTAMP:20260424T034243Z
SUMMARY:Seminari sobre les fonts estadístiques oficials a Catalunya. 
CLASS:PUBLIC
LOCATION:Via Laietana 58\, Barcelona (sala d'actes de l'Idescat)
CATEGORIES:Cursos i seminaris
STATUS:CONFIRMED
LAST-MODIFIED:20260424T034243Z
URL;VALUE=URI:https://www.idescat.cat/formacio/?id=R346/2018
END:VEVENT
BEGIN:VEVENT
DTSTART:20180425T120000
DTEND:20180425T140000
TRANSP:OPAQUE
SEQUENCE:0
UID:f-346-4@idescat.cat
DTSTAMP:20260424T034243Z
SUMMARY:Seminari sobre les fonts estadístiques oficials a Catalunya. 
CLASS:PUBLIC
LOCATION:Via Laietana 58\, Barcelona (sala d'actes de l'Idescat)
CATEGORIES:Cursos i seminaris
STATUS:CONFIRMED
LAST-MODIFIED:20260424T034243Z
URL;VALUE=URI:https://www.idescat.cat/formacio/?id=R346/2018
END:VEVENT
END:VCALENDAR

