BEGIN:VCALENDAR
PRODID:-//Idescat.cat//NONSGML IdesCal 1.0//EN
VERSION:2.0
CALSCALE:GREGORIAN
METHOD:PUBLISH
BEGIN:VEVENT
DTSTART:20180416T113000
DTEND:20180416T143000
TRANSP:OPAQUE
SEQUENCE:0
UID:f-350-1@idescat.cat
DTSTAMP:20260424T034242Z
SUMMARY:Curs d'econometria bàsica. 
CLASS:PUBLIC
LOCATION:Via Laietana 58\, Barcelona (sala de microinformàtica de l'Idescat)
CATEGORIES:Cursos i seminaris
STATUS:CONFIRMED
LAST-MODIFIED:20260424T034242Z
URL;VALUE=URI:https://www.idescat.cat/formacio/?id=R350/2018
END:VEVENT
BEGIN:VEVENT
DTSTART:20180418T113000
DTEND:20180418T143000
TRANSP:OPAQUE
SEQUENCE:0
UID:f-350-2@idescat.cat
DTSTAMP:20260424T034242Z
SUMMARY:Curs d'econometria bàsica. 
CLASS:PUBLIC
LOCATION:Via Laietana 58\, Barcelona (sala de microinformàtica de l'Idescat)
CATEGORIES:Cursos i seminaris
STATUS:CONFIRMED
LAST-MODIFIED:20260424T034242Z
URL;VALUE=URI:https://www.idescat.cat/formacio/?id=R350/2018
END:VEVENT
BEGIN:VEVENT
DTSTART:20180423T113000
DTEND:20180423T143000
TRANSP:OPAQUE
SEQUENCE:0
UID:f-350-3@idescat.cat
DTSTAMP:20260424T034242Z
SUMMARY:Curs d'econometria bàsica. 
CLASS:PUBLIC
LOCATION:Via Laietana 58\, Barcelona (sala de microinformàtica de l'Idescat)
CATEGORIES:Cursos i seminaris
STATUS:CONFIRMED
LAST-MODIFIED:20260424T034242Z
URL;VALUE=URI:https://www.idescat.cat/formacio/?id=R350/2018
END:VEVENT
BEGIN:VEVENT
DTSTART:20180425T113000
DTEND:20180425T143000
TRANSP:OPAQUE
SEQUENCE:0
UID:f-350-4@idescat.cat
DTSTAMP:20260424T034242Z
SUMMARY:Curs d'econometria bàsica. 
CLASS:PUBLIC
LOCATION:Via Laietana 58\, Barcelona (sala de microinformàtica de l'Idescat)
CATEGORIES:Cursos i seminaris
STATUS:CONFIRMED
LAST-MODIFIED:20260424T034242Z
URL;VALUE=URI:https://www.idescat.cat/formacio/?id=R350/2018
END:VEVENT
BEGIN:VEVENT
DTSTART:20180502T113000
DTEND:20180502T143000
TRANSP:OPAQUE
SEQUENCE:0
UID:f-350-5@idescat.cat
DTSTAMP:20260424T034242Z
SUMMARY:Curs d'econometria bàsica. 
CLASS:PUBLIC
LOCATION:Via Laietana 58\, Barcelona (sala de microinformàtica de l'Idescat)
CATEGORIES:Cursos i seminaris
STATUS:CONFIRMED
LAST-MODIFIED:20260424T034242Z
URL;VALUE=URI:https://www.idescat.cat/formacio/?id=R350/2018
END:VEVENT
END:VCALENDAR

