BEGIN:VCALENDAR
PRODID:-//Idescat.cat//NONSGML IdesCal 1.0//EN
VERSION:2.0
CALSCALE:GREGORIAN
METHOD:PUBLISH
BEGIN:VEVENT
DTSTART:20181002T110000
DTEND:20181002T140000
TRANSP:OPAQUE
SEQUENCE:0
UID:f-355-1@idescat.cat
DTSTAMP:20260424T034244Z
SUMMARY:Curs de mostreig aplicat a l'auditoria. 
CLASS:PUBLIC
LOCATION:Via Laietana 58\, Barcelona (sala de microinformàtica de l'Idescat)
CATEGORIES:Cursos i seminaris
STATUS:CONFIRMED
LAST-MODIFIED:20260424T034244Z
URL;VALUE=URI:https://www.idescat.cat/formacio/?id=R355/2018
END:VEVENT
BEGIN:VEVENT
DTSTART:20181009T110000
DTEND:20181009T140000
TRANSP:OPAQUE
SEQUENCE:0
UID:f-355-2@idescat.cat
DTSTAMP:20260424T034244Z
SUMMARY:Curs de mostreig aplicat a l'auditoria. 
CLASS:PUBLIC
LOCATION:Via Laietana 58\, Barcelona (sala de microinformàtica de l'Idescat)
CATEGORIES:Cursos i seminaris
STATUS:CONFIRMED
LAST-MODIFIED:20260424T034244Z
URL;VALUE=URI:https://www.idescat.cat/formacio/?id=R355/2018
END:VEVENT
BEGIN:VEVENT
DTSTART:20181016T110000
DTEND:20181016T140000
TRANSP:OPAQUE
SEQUENCE:0
UID:f-355-3@idescat.cat
DTSTAMP:20260424T034244Z
SUMMARY:Curs de mostreig aplicat a l'auditoria. 
CLASS:PUBLIC
LOCATION:Via Laietana 58\, Barcelona (sala de microinformàtica de l'Idescat)
CATEGORIES:Cursos i seminaris
STATUS:CONFIRMED
LAST-MODIFIED:20260424T034244Z
URL;VALUE=URI:https://www.idescat.cat/formacio/?id=R355/2018
END:VEVENT
BEGIN:VEVENT
DTSTART:20181023T110000
DTEND:20181023T140000
TRANSP:OPAQUE
SEQUENCE:0
UID:f-355-4@idescat.cat
DTSTAMP:20260424T034244Z
SUMMARY:Curs de mostreig aplicat a l'auditoria. 
CLASS:PUBLIC
LOCATION:Via Laietana 58\, Barcelona (sala de microinformàtica de l'Idescat)
CATEGORIES:Cursos i seminaris
STATUS:CONFIRMED
LAST-MODIFIED:20260424T034244Z
URL;VALUE=URI:https://www.idescat.cat/formacio/?id=R355/2018
END:VEVENT
END:VCALENDAR

