BEGIN:VCALENDAR
PRODID:-//Idescat.cat//NONSGML IdesCal 1.0//EN
VERSION:2.0
CALSCALE:GREGORIAN
METHOD:PUBLISH
BEGIN:VEVENT
DTSTART:20190307T110000
DTEND:20190307T140000
TRANSP:OPAQUE
SEQUENCE:0
UID:f-365-1@idescat.cat
DTSTAMP:20260424T001250Z
SUMMARY:Curs de nivell intermedi d'R. 
CLASS:PUBLIC
LOCATION:Via Laietana 58\, Barcelona (sala de microinformàtica de l'Idescat)
CATEGORIES:Cursos i seminaris
STATUS:CONFIRMED
LAST-MODIFIED:20260424T001250Z
URL;VALUE=URI:https://www.idescat.cat/formacio/?id=R365/2019
END:VEVENT
BEGIN:VEVENT
DTSTART:20190312T110000
DTEND:20190312T140000
TRANSP:OPAQUE
SEQUENCE:0
UID:f-365-2@idescat.cat
DTSTAMP:20260424T001250Z
SUMMARY:Curs de nivell intermedi d'R. 
CLASS:PUBLIC
LOCATION:Via Laietana 58\, Barcelona (sala de microinformàtica de l'Idescat)
CATEGORIES:Cursos i seminaris
STATUS:CONFIRMED
LAST-MODIFIED:20260424T001250Z
URL;VALUE=URI:https://www.idescat.cat/formacio/?id=R365/2019
END:VEVENT
BEGIN:VEVENT
DTSTART:20190314T110000
DTEND:20190314T140000
TRANSP:OPAQUE
SEQUENCE:0
UID:f-365-3@idescat.cat
DTSTAMP:20260424T001250Z
SUMMARY:Curs de nivell intermedi d'R. 
CLASS:PUBLIC
LOCATION:Via Laietana 58\, Barcelona (sala de microinformàtica de l'Idescat)
CATEGORIES:Cursos i seminaris
STATUS:CONFIRMED
LAST-MODIFIED:20260424T001250Z
URL;VALUE=URI:https://www.idescat.cat/formacio/?id=R365/2019
END:VEVENT
BEGIN:VEVENT
DTSTART:20190319T110000
DTEND:20190319T140000
TRANSP:OPAQUE
SEQUENCE:0
UID:f-365-4@idescat.cat
DTSTAMP:20260424T001250Z
SUMMARY:Curs de nivell intermedi d'R. 
CLASS:PUBLIC
LOCATION:Via Laietana 58\, Barcelona (sala de microinformàtica de l'Idescat)
CATEGORIES:Cursos i seminaris
STATUS:CONFIRMED
LAST-MODIFIED:20260424T001250Z
URL;VALUE=URI:https://www.idescat.cat/formacio/?id=R365/2019
END:VEVENT
BEGIN:VEVENT
DTSTART:20190321T110000
DTEND:20190321T140000
TRANSP:OPAQUE
SEQUENCE:0
UID:f-365-5@idescat.cat
DTSTAMP:20260424T001250Z
SUMMARY:Curs de nivell intermedi d'R. 
CLASS:PUBLIC
LOCATION:Via Laietana 58\, Barcelona (sala de microinformàtica de l'Idescat)
CATEGORIES:Cursos i seminaris
STATUS:CONFIRMED
LAST-MODIFIED:20260424T001250Z
URL;VALUE=URI:https://www.idescat.cat/formacio/?id=R365/2019
END:VEVENT
END:VCALENDAR

