BEGIN:VCALENDAR
PRODID:-//Idescat.cat//NONSGML IdesCal 1.0//EN
VERSION:2.0
CALSCALE:GREGORIAN
METHOD:PUBLISH
BEGIN:VEVENT
DTSTART:20190411T090000
DTEND:20190411T130000
TRANSP:OPAQUE
SEQUENCE:0
UID:f-376-1@idescat.cat
DTSTAMP:20260424T001251Z
SUMMARY:Curs d'estadística per a la presentació de dades I. 
CLASS:PUBLIC
LOCATION:Via Laietana 58\, Barcelona (sala de microinformàtica de l'Idescat)
CATEGORIES:Cursos i seminaris
STATUS:CONFIRMED
LAST-MODIFIED:20260424T001251Z
URL;VALUE=URI:https://www.idescat.cat/formacio/?id=R376/2019
END:VEVENT
BEGIN:VEVENT
DTSTART:20190416T090000
DTEND:20190416T130000
TRANSP:OPAQUE
SEQUENCE:0
UID:f-376-2@idescat.cat
DTSTAMP:20260424T001251Z
SUMMARY:Curs d'estadística per a la presentació de dades I. 
CLASS:PUBLIC
LOCATION:Via Laietana 58\, Barcelona (sala de microinformàtica de l'Idescat)
CATEGORIES:Cursos i seminaris
STATUS:CONFIRMED
LAST-MODIFIED:20260424T001251Z
URL;VALUE=URI:https://www.idescat.cat/formacio/?id=R376/2019
END:VEVENT
END:VCALENDAR

