BEGIN:VCALENDAR
PRODID:-//Idescat.cat//NONSGML IdesCal 1.0//EN
VERSION:2.0
CALSCALE:GREGORIAN
METHOD:PUBLISH
BEGIN:VEVENT
DTSTART:20190705T100000
DTEND:20190705T120000
TRANSP:OPAQUE
SEQUENCE:0
UID:f-378-1@idescat.cat
DTSTAMP:20260424T001250Z
SUMMARY:Sessió sobre el Programa anual d'actuació estadística (PAAE): marc legal i característiques. 
CLASS:PUBLIC
LOCATION:Via Laietana 58\, Barcelona (sala d'actes de l'Idescat)
CATEGORIES:Cursos i seminaris
STATUS:CONFIRMED
LAST-MODIFIED:20260424T001250Z
URL;VALUE=URI:https://www.idescat.cat/formacio/?id=R378/2019
END:VEVENT
END:VCALENDAR

