BEGIN:VCALENDAR
PRODID:-//Idescat.cat//NONSGML IdesCal 1.0//EN
VERSION:2.0
CALSCALE:GREGORIAN
METHOD:PUBLISH
BEGIN:VEVENT
DTSTART:20191115T123000
DTEND:20191115T140000
TRANSP:OPAQUE
SEQUENCE:0
UID:f-381-1@idescat.cat
DTSTAMP:20260424T001251Z
SUMMARY:Taller de xifratge d'arxius. 
CLASS:PUBLIC
LOCATION:Via Laietana 58\, Barcelona (sala de microinformàtica de l'Idescat)
CATEGORIES:Cursos i seminaris
STATUS:CONFIRMED
LAST-MODIFIED:20260424T001251Z
URL;VALUE=URI:https://www.idescat.cat/formacio/?id=R381/2019
END:VEVENT
END:VCALENDAR

