BEGIN:VCALENDAR
PRODID:-//Idescat.cat//NONSGML IdesCal 1.0//EN
VERSION:2.0
CALSCALE:GREGORIAN
METHOD:PUBLISH
BEGIN:VEVENT
DTSTART:20191120T110000
DTEND:20191120T140000
TRANSP:OPAQUE
SEQUENCE:0
UID:f-386-1@idescat.cat
DTSTAMP:20260424T001251Z
SUMMARY:Curs de sèries temporals. 
CLASS:PUBLIC
LOCATION:Via Laietana 58\, Barcelona (sala de microinformàtica de l'Idescat)
CATEGORIES:Cursos i seminaris
STATUS:CONFIRMED
LAST-MODIFIED:20260424T001251Z
URL;VALUE=URI:https://www.idescat.cat/formacio/?id=R386/2019
END:VEVENT
BEGIN:VEVENT
DTSTART:20191127T110000
DTEND:20191127T140000
TRANSP:OPAQUE
SEQUENCE:0
UID:f-386-2@idescat.cat
DTSTAMP:20260424T001251Z
SUMMARY:Curs de sèries temporals. 
CLASS:PUBLIC
LOCATION:Via Laietana 58\, Barcelona (sala de microinformàtica de l'Idescat)
CATEGORIES:Cursos i seminaris
STATUS:CONFIRMED
LAST-MODIFIED:20260424T001251Z
URL;VALUE=URI:https://www.idescat.cat/formacio/?id=R386/2019
END:VEVENT
BEGIN:VEVENT
DTSTART:20191204T110000
DTEND:20191204T140000
TRANSP:OPAQUE
SEQUENCE:0
UID:f-386-3@idescat.cat
DTSTAMP:20260424T001251Z
SUMMARY:Curs de sèries temporals. 
CLASS:PUBLIC
LOCATION:Via Laietana 58\, Barcelona (sala de microinformàtica de l'Idescat)
CATEGORIES:Cursos i seminaris
STATUS:CONFIRMED
LAST-MODIFIED:20260424T001251Z
URL;VALUE=URI:https://www.idescat.cat/formacio/?id=R386/2019
END:VEVENT
BEGIN:VEVENT
DTSTART:20191211T110000
DTEND:20191211T140000
TRANSP:OPAQUE
SEQUENCE:0
UID:f-386-4@idescat.cat
DTSTAMP:20260424T001251Z
SUMMARY:Curs de sèries temporals. ajornat al 22.01.2020
CLASS:PUBLIC
LOCATION:Via Laietana 58\, Barcelona (sala de microinformàtica de l'Idescat)
CATEGORIES:Cursos i seminaris
STATUS:CONFIRMED
LAST-MODIFIED:20260424T001251Z
URL;VALUE=URI:https://www.idescat.cat/formacio/?id=R386/2019
END:VEVENT
BEGIN:VEVENT
DTSTART:20191218T110000
DTEND:20191218T140000
TRANSP:OPAQUE
SEQUENCE:0
UID:f-386-5@idescat.cat
DTSTAMP:20260424T001251Z
SUMMARY:Curs de sèries temporals. 
CLASS:PUBLIC
LOCATION:Via Laietana 58\, Barcelona (sala de microinformàtica de l'Idescat)
CATEGORIES:Cursos i seminaris
STATUS:CONFIRMED
LAST-MODIFIED:20260424T001251Z
URL;VALUE=URI:https://www.idescat.cat/formacio/?id=R386/2019
END:VEVENT
END:VCALENDAR

