BEGIN:VCALENDAR
PRODID:-//Idescat.cat//NONSGML IdesCal 1.0//EN
VERSION:2.0
CALSCALE:GREGORIAN
METHOD:PUBLISH
BEGIN:VEVENT
DTSTART:20190919T090000
DTEND:20190919T140000
TRANSP:OPAQUE
SEQUENCE:0
UID:f-387-1@idescat.cat
DTSTAMP:20260424T001251Z
SUMMARY:Curs d'introducció al disseny de mostres. 
CLASS:PUBLIC
LOCATION:Via Laietana 58\, Barcelona (sala de microinformàtica de l'Idescat)
CATEGORIES:Cursos i seminaris
STATUS:CONFIRMED
LAST-MODIFIED:20260424T001251Z
URL;VALUE=URI:https://www.idescat.cat/formacio/?id=R387/2019
END:VEVENT
BEGIN:VEVENT
DTSTART:20190926T090000
DTEND:20190926T140000
TRANSP:OPAQUE
SEQUENCE:0
UID:f-387-2@idescat.cat
DTSTAMP:20260424T001251Z
SUMMARY:Curs d'introducció al disseny de mostres. 
CLASS:PUBLIC
LOCATION:Via Laietana 58\, Barcelona (sala de microinformàtica de l'Idescat)
CATEGORIES:Cursos i seminaris
STATUS:CONFIRMED
LAST-MODIFIED:20260424T001251Z
URL;VALUE=URI:https://www.idescat.cat/formacio/?id=R387/2019
END:VEVENT
BEGIN:VEVENT
DTSTART:20191003T090000
DTEND:20191003T140000
TRANSP:OPAQUE
SEQUENCE:0
UID:f-387-3@idescat.cat
DTSTAMP:20260424T001251Z
SUMMARY:Curs d'introducció al disseny de mostres. 
CLASS:PUBLIC
LOCATION:Via Laietana 58\, Barcelona (sala de microinformàtica de l'Idescat)
CATEGORIES:Cursos i seminaris
STATUS:CONFIRMED
LAST-MODIFIED:20260424T001251Z
URL;VALUE=URI:https://www.idescat.cat/formacio/?id=R387/2019
END:VEVENT
END:VCALENDAR

