BEGIN:VCALENDAR
PRODID:-//Idescat.cat//NONSGML IdesCal 1.0//EN
VERSION:2.0
CALSCALE:GREGORIAN
METHOD:PUBLISH
BEGIN:VEVENT
DTSTART:20210406T090000
DTEND:20210406T120000
TRANSP:OPAQUE
SEQUENCE:0
UID:f-415-1@idescat.cat
DTSTAMP:20260422T041749Z
SUMMARY:Curs sobre models economètrics aplicats a l'economia catalana. Nivell 2. 
CLASS:PUBLIC
LOCATION:en línia via Teams
CATEGORIES:Cursos i seminaris
STATUS:CONFIRMED
LAST-MODIFIED:20260422T041749Z
URL;VALUE=URI:https://www.idescat.cat/formacio/?id=R415/2021
END:VEVENT
BEGIN:VEVENT
DTSTART:20210408T090000
DTEND:20210408T120000
TRANSP:OPAQUE
SEQUENCE:0
UID:f-415-2@idescat.cat
DTSTAMP:20260422T041749Z
SUMMARY:Curs sobre models economètrics aplicats a l'economia catalana. Nivell 2. 
CLASS:PUBLIC
LOCATION:en línia via Teams
CATEGORIES:Cursos i seminaris
STATUS:CONFIRMED
LAST-MODIFIED:20260422T041749Z
URL;VALUE=URI:https://www.idescat.cat/formacio/?id=R415/2021
END:VEVENT
BEGIN:VEVENT
DTSTART:20210413T090000
DTEND:20210413T120000
TRANSP:OPAQUE
SEQUENCE:0
UID:f-415-3@idescat.cat
DTSTAMP:20260422T041749Z
SUMMARY:Curs sobre models economètrics aplicats a l'economia catalana. Nivell 2. 
CLASS:PUBLIC
LOCATION:en línia via Teams
CATEGORIES:Cursos i seminaris
STATUS:CONFIRMED
LAST-MODIFIED:20260422T041749Z
URL;VALUE=URI:https://www.idescat.cat/formacio/?id=R415/2021
END:VEVENT
BEGIN:VEVENT
DTSTART:20210420T090000
DTEND:20210420T120000
TRANSP:OPAQUE
SEQUENCE:0
UID:f-415-4@idescat.cat
DTSTAMP:20260422T041749Z
SUMMARY:Curs sobre models economètrics aplicats a l'economia catalana. Nivell 2. 
CLASS:PUBLIC
LOCATION:en línia via Teams
CATEGORIES:Cursos i seminaris
STATUS:CONFIRMED
LAST-MODIFIED:20260422T041749Z
URL;VALUE=URI:https://www.idescat.cat/formacio/?id=R415/2021
END:VEVENT
BEGIN:VEVENT
DTSTART:20210422T090000
DTEND:20210422T120000
TRANSP:OPAQUE
SEQUENCE:0
UID:f-415-5@idescat.cat
DTSTAMP:20260422T041749Z
SUMMARY:Curs sobre models economètrics aplicats a l'economia catalana. Nivell 2. 
CLASS:PUBLIC
LOCATION:en línia via Teams
CATEGORIES:Cursos i seminaris
STATUS:CONFIRMED
LAST-MODIFIED:20260422T041749Z
URL;VALUE=URI:https://www.idescat.cat/formacio/?id=R415/2021
END:VEVENT
END:VCALENDAR

