BEGIN:VCALENDAR
PRODID:-//Idescat.cat//NONSGML IdesCal 1.0//EN
VERSION:2.0
CALSCALE:GREGORIAN
METHOD:PUBLISH
BEGIN:VEVENT
DTSTART:20210611T100000
DTEND:20210611T113000
TRANSP:OPAQUE
SEQUENCE:0
UID:f-417-1@idescat.cat
DTSTAMP:20260422T041749Z
SUMMARY:Sessió sobre l'índex socioeconòmic territorial (IST). 
CLASS:PUBLIC
LOCATION:en línia via Teams
CATEGORIES:Cursos i seminaris
STATUS:CONFIRMED
LAST-MODIFIED:20260422T041749Z
URL;VALUE=URI:https://www.idescat.cat/formacio/?id=R417/2021
END:VEVENT
END:VCALENDAR

