BEGIN:VCALENDAR
PRODID:-//Idescat.cat//NONSGML IdesCal 1.0//EN
VERSION:2.0
CALSCALE:GREGORIAN
METHOD:PUBLISH
BEGIN:VEVENT
DTSTART:20220401T120000
DTEND:20220401T130000
TRANSP:OPAQUE
SEQUENCE:0
UID:f-432-1@idescat.cat
DTSTAMP:20260424T134527Z
SUMMARY:Sessió sobre la difusió d'estadístiques a l'Idescat: de taules a cubs. 
CLASS:PUBLIC
LOCATION:en línia via Teams
CATEGORIES:Cursos i seminaris
STATUS:CONFIRMED
LAST-MODIFIED:20260424T134527Z
URL;VALUE=URI:https://www.idescat.cat/formacio/?id=R432/2022
END:VEVENT
END:VCALENDAR

