BEGIN:VCALENDAR
PRODID:-//Idescat.cat//NONSGML IdesCal 1.0//EN
VERSION:2.0
CALSCALE:GREGORIAN
METHOD:PUBLISH
BEGIN:VEVENT
DTSTART:20221114T090000
DTEND:20221114T120000
TRANSP:OPAQUE
SEQUENCE:0
UID:f-446-1@idescat.cat
DTSTAMP:20260424T170542Z
SUMMARY:Curs d'introducció a R. 
CLASS:PUBLIC
LOCATION:en línia
CATEGORIES:Cursos i seminaris
STATUS:CONFIRMED
LAST-MODIFIED:20260424T170542Z
URL;VALUE=URI:https://www.idescat.cat/formacio/?id=R446/2022
END:VEVENT
BEGIN:VEVENT
DTSTART:20221116T090000
DTEND:20221116T120000
TRANSP:OPAQUE
SEQUENCE:0
UID:f-446-2@idescat.cat
DTSTAMP:20260424T170542Z
SUMMARY:Curs d'introducció a R. 
CLASS:PUBLIC
LOCATION:en línia
CATEGORIES:Cursos i seminaris
STATUS:CONFIRMED
LAST-MODIFIED:20260424T170542Z
URL;VALUE=URI:https://www.idescat.cat/formacio/?id=R446/2022
END:VEVENT
BEGIN:VEVENT
DTSTART:20221121T090000
DTEND:20221121T120000
TRANSP:OPAQUE
SEQUENCE:0
UID:f-446-3@idescat.cat
DTSTAMP:20260424T170542Z
SUMMARY:Curs d'introducció a R. 
CLASS:PUBLIC
LOCATION:en línia
CATEGORIES:Cursos i seminaris
STATUS:CONFIRMED
LAST-MODIFIED:20260424T170542Z
URL;VALUE=URI:https://www.idescat.cat/formacio/?id=R446/2022
END:VEVENT
BEGIN:VEVENT
DTSTART:20221123T090000
DTEND:20221123T120000
TRANSP:OPAQUE
SEQUENCE:0
UID:f-446-4@idescat.cat
DTSTAMP:20260424T170542Z
SUMMARY:Curs d'introducció a R. 
CLASS:PUBLIC
LOCATION:en línia
CATEGORIES:Cursos i seminaris
STATUS:CONFIRMED
LAST-MODIFIED:20260424T170542Z
URL;VALUE=URI:https://www.idescat.cat/formacio/?id=R446/2022
END:VEVENT
BEGIN:VEVENT
DTSTART:20221128T090000
DTEND:20221128T120000
TRANSP:OPAQUE
SEQUENCE:0
UID:f-446-5@idescat.cat
DTSTAMP:20260424T170542Z
SUMMARY:Curs d'introducció a R. 
CLASS:PUBLIC
LOCATION:en línia
CATEGORIES:Cursos i seminaris
STATUS:CONFIRMED
LAST-MODIFIED:20260424T170542Z
URL;VALUE=URI:https://www.idescat.cat/formacio/?id=R446/2022
END:VEVENT
END:VCALENDAR

