BEGIN:VCALENDAR
PRODID:-//Idescat.cat//NONSGML IdesCal 1.0//EN
VERSION:2.0
CALSCALE:GREGORIAN
METHOD:PUBLISH
BEGIN:VEVENT
DTSTART:20260213T120000
DTEND:20260213T130000
TRANSP:OPAQUE
SEQUENCE:0
UID:f-522-1@idescat.cat
DTSTAMP:20260422T093823Z
SUMMARY:Sessió sobre el nou procés de publicació de continguts al web. 
CLASS:PUBLIC
LOCATION:en línia via Teams
CATEGORIES:Cursos i seminaris
STATUS:CONFIRMED
LAST-MODIFIED:20260422T093823Z
URL;VALUE=URI:https://www.idescat.cat/formacio/?id=I522/2026
END:VEVENT
END:VCALENDAR

