BEGIN:VCALENDAR
PRODID:-//Idescat.cat//NONSGML IdesCal 1.0//EN
VERSION:2.0
CALSCALE:GREGORIAN
METHOD:PUBLISH
BEGIN:VEVENT
DTSTART:20260320T120000
DTEND:20260320T130000
TRANSP:OPAQUE
SEQUENCE:0
UID:f-517-1@idescat.cat
DTSTAMP:20260422T093822Z
SUMMARY:Sessió sobre les Projeccions de població. 
CLASS:PUBLIC
LOCATION:en línia via Teams
CATEGORIES:Cursos i seminaris
STATUS:CONFIRMED
LAST-MODIFIED:20260422T093822Z
URL;VALUE=URI:https://www.idescat.cat/formacio/?id=O517/2026
END:VEVENT
END:VCALENDAR

