BEGIN:VCALENDAR
PRODID:-//Idescat.cat//NONSGML IdesCal 1.0//EN
VERSION:2.0
CALSCALE:GREGORIAN
METHOD:PUBLISH
BEGIN:VEVENT
DTSTART:20260529T120000
DTEND:20260529T130000
TRANSP:OPAQUE
SEQUENCE:0
UID:f-528-1@idescat.cat
DTSTAMP:20260422T075926Z
SUMMARY:Sessió sobre l'estimació mensual de la població activa. 
CLASS:PUBLIC
LOCATION:en línia via Teams
CATEGORIES:Cursos i seminaris
STATUS:CONFIRMED
LAST-MODIFIED:20260422T075926Z
URL;VALUE=URI:https://www.idescat.cat/formacio/?id=O528/2026
END:VEVENT
END:VCALENDAR

