BEGIN:VCALENDAR
PRODID:-//Idescat.cat//NONSGML IdesCal 1.0//EN
VERSION:2.0
CALSCALE:GREGORIAN
METHOD:PUBLISH
BEGIN:VEVENT
DTSTART:20260303T110000
DTEND:20260303T140000
TRANSP:OPAQUE
SEQUENCE:0
UID:f-521-1@idescat.cat
DTSTAMP:20260422T093822Z
SUMMARY:Curs d'introducció a R. 
CLASS:PUBLIC
LOCATION:Via Laietana 58\, Barcelona (Sala de Microinformàtica. Idescat)
CATEGORIES:Cursos i seminaris
STATUS:CONFIRMED
LAST-MODIFIED:20260422T093822Z
URL;VALUE=URI:https://www.idescat.cat/formacio/?id=R521/2026
END:VEVENT
BEGIN:VEVENT
DTSTART:20260305T110000
DTEND:20260305T140000
TRANSP:OPAQUE
SEQUENCE:0
UID:f-521-2@idescat.cat
DTSTAMP:20260422T093822Z
SUMMARY:Curs d'introducció a R. 
CLASS:PUBLIC
LOCATION:Via Laietana 58\, Barcelona (Sala de Microinformàtica. Idescat)
CATEGORIES:Cursos i seminaris
STATUS:CONFIRMED
LAST-MODIFIED:20260422T093822Z
URL;VALUE=URI:https://www.idescat.cat/formacio/?id=R521/2026
END:VEVENT
BEGIN:VEVENT
DTSTART:20260310T110000
DTEND:20260310T140000
TRANSP:OPAQUE
SEQUENCE:0
UID:f-521-3@idescat.cat
DTSTAMP:20260422T093822Z
SUMMARY:Curs d'introducció a R. 
CLASS:PUBLIC
LOCATION:Via Laietana 58\, Barcelona (Sala de Microinformàtica. Idescat)
CATEGORIES:Cursos i seminaris
STATUS:CONFIRMED
LAST-MODIFIED:20260422T093822Z
URL;VALUE=URI:https://www.idescat.cat/formacio/?id=R521/2026
END:VEVENT
BEGIN:VEVENT
DTSTART:20260312T110000
DTEND:20260312T140000
TRANSP:OPAQUE
SEQUENCE:0
UID:f-521-4@idescat.cat
DTSTAMP:20260422T093822Z
SUMMARY:Curs d'introducció a R. 
CLASS:PUBLIC
LOCATION:Via Laietana 58\, Barcelona (Sala de Microinformàtica. Idescat)
CATEGORIES:Cursos i seminaris
STATUS:CONFIRMED
LAST-MODIFIED:20260422T093822Z
URL;VALUE=URI:https://www.idescat.cat/formacio/?id=R521/2026
END:VEVENT
BEGIN:VEVENT
DTSTART:20260317T110000
DTEND:20260317T140000
TRANSP:OPAQUE
SEQUENCE:0
UID:f-521-5@idescat.cat
DTSTAMP:20260422T093822Z
SUMMARY:Curs d'introducció a R. 
CLASS:PUBLIC
LOCATION:Via Laietana 58\, Barcelona (Sala de Microinformàtica. Idescat)
CATEGORIES:Cursos i seminaris
STATUS:CONFIRMED
LAST-MODIFIED:20260422T093822Z
URL;VALUE=URI:https://www.idescat.cat/formacio/?id=R521/2026
END:VEVENT
END:VCALENDAR

